BEGIN:VCALENDAR
VERSION:2.0
PRODID:icalendar-ruby
CALSCALE:GREGORIAN
METHOD:PUBLISH
BEGIN:VEVENT
DTSTAMP:20260421T102701Z
UID:8-1374381@azaleacommunitychurch.com
DTSTART:20230720T010000Z
DTEND:20230720T020000Z
CLASS:PUBLIC
CREATED:20260420T164149
DESCRIPTION:Prayer meeting
LAST-MODIFIED:20260420T164149
LOCATION:At the Church
SUMMARY:Prayer meeting
URL;VALUE=URI:https://www.azaleacommunitychurch.com/events/prayer-meeting/2
 023-07-19
END:VEVENT
END:VCALENDAR
