BEGIN:VCALENDAR
VERSION:2.0
PRODID:icalendar-ruby
CALSCALE:GREGORIAN
METHOD:PUBLISH
BEGIN:VEVENT
DTSTAMP:20260421T153052Z
UID:8-1375992@azaleacommunitychurch.com
DTSTART:20230810T010000Z
DTEND:20230810T020000Z
CLASS:PUBLIC
CREATED:20260421T062341
DESCRIPTION:Prayer meeting
LAST-MODIFIED:20260421T062341
LOCATION:At the Church
SUMMARY:Prayer meeting
URL;VALUE=URI:https://www.azaleacommunitychurch.com/events/prayer-meeting/2
 023-08-09
END:VEVENT
END:VCALENDAR
