BEGIN:VCALENDAR
VERSION:2.0
PRODID:icalendar-ruby
CALSCALE:GREGORIAN
METHOD:PUBLISH
BEGIN:VEVENT
DTSTAMP:20260421T203340Z
UID:8-1377603@azaleacommunitychurch.com
DTSTART:20230831T010000Z
DTEND:20230831T020000Z
CLASS:PUBLIC
CREATED:20260421T113932
DESCRIPTION:Prayer meeting
LAST-MODIFIED:20260421T113932
LOCATION:At the Church
SUMMARY:Prayer meeting
URL;VALUE=URI:https://www.azaleacommunitychurch.com/events/prayer-meeting/2
 023-08-30
END:VEVENT
END:VCALENDAR
