BEGIN:VCALENDAR
VERSION:2.0
PRODID:icalendar-ruby
CALSCALE:GREGORIAN
METHOD:PUBLISH
BEGIN:VEVENT
DTSTAMP:20260422T025223Z
UID:8-1379214@azaleacommunitychurch.com
DTSTART:20230921T010000Z
DTEND:20230921T020000Z
CLASS:PUBLIC
CREATED:20260421T165451
DESCRIPTION:Prayer meeting
LAST-MODIFIED:20260421T165451
LOCATION:At the Church
SUMMARY:Prayer meeting
URL;VALUE=URI:https://www.azaleacommunitychurch.com/events/prayer-meeting/2
 023-09-20
END:VEVENT
END:VCALENDAR
