BEGIN:VCALENDAR
VERSION:2.0
PRODID:icalendar-ruby
CALSCALE:GREGORIAN
METHOD:PUBLISH
BEGIN:VEVENT
DTSTAMP:20260422T111434Z
UID:8-1380023@azaleacommunitychurch.com
DTSTART:20231026T010000Z
DTEND:20231026T020000Z
CLASS:PUBLIC
CREATED:20260422T035310
DESCRIPTION:Prayer meeting
LAST-MODIFIED:20260422T035310
LOCATION:At the Church
SUMMARY:Prayer meeting
URL;VALUE=URI:https://www.azaleacommunitychurch.com/events/prayer-meeting/2
 023-10-25
END:VEVENT
END:VCALENDAR
