BEGIN:VCALENDAR
VERSION:2.0
PRODID:icalendar-ruby
CALSCALE:GREGORIAN
METHOD:PUBLISH
BEGIN:VEVENT
DTSTAMP:20260424T102806Z
UID:8-1388873@azaleacommunitychurch.com
DTSTART:20231102T010000Z
DTEND:20231102T020000Z
CLASS:PUBLIC
CREATED:20260423T182611
DESCRIPTION:Prayer meeting
LAST-MODIFIED:20260423T182611
LOCATION:At the Church
SUMMARY:Prayer meeting
URL;VALUE=URI:https://www.azaleacommunitychurch.com/events/prayer-meeting/2
 023-11-01
END:VEVENT
END:VCALENDAR
