BEGIN:VCALENDAR
VERSION:2.0
PRODID:icalendar-ruby
CALSCALE:GREGORIAN
METHOD:PUBLISH
BEGIN:VEVENT
DTSTAMP:20260424T155212Z
UID:8-1390486@azaleacommunitychurch.com
DTSTART:20231123T020000Z
DTEND:20231123T030000Z
CLASS:PUBLIC
CREATED:20260424T064818
DESCRIPTION:Prayer meeting
LAST-MODIFIED:20260424T064818
LOCATION:At the Church
SUMMARY:Prayer meeting
URL;VALUE=URI:https://www.azaleacommunitychurch.com/events/prayer-meeting/2
 023-11-22
END:VEVENT
END:VCALENDAR
