BEGIN:VCALENDAR
VERSION:2.0
PRODID:icalendar-ruby
CALSCALE:GREGORIAN
METHOD:PUBLISH
BEGIN:VEVENT
DTSTAMP:20260424T173234Z
UID:8-1391292@azaleacommunitychurch.com
DTSTART:20231130T020000Z
DTEND:20231130T030000Z
CLASS:PUBLIC
CREATED:20260424T093840
DESCRIPTION:Prayer meeting
LAST-MODIFIED:20260424T093840
LOCATION:At the Church
SUMMARY:Prayer meeting
URL;VALUE=URI:https://www.azaleacommunitychurch.com/events/prayer-meeting/2
 023-11-29
END:VEVENT
END:VCALENDAR
