BEGIN:VCALENDAR
VERSION:2.0
PRODID:icalendar-ruby
CALSCALE:GREGORIAN
METHOD:PUBLISH
BEGIN:VEVENT
DTSTAMP:20260424T212054Z
UID:8-1392099@azaleacommunitychurch.com
DTSTART:20231214T020000Z
DTEND:20231214T030000Z
CLASS:PUBLIC
CREATED:20260424T122443
DESCRIPTION:Prayer meeting
LAST-MODIFIED:20260424T122443
LOCATION:At the Church
SUMMARY:Prayer meeting
URL;VALUE=URI:https://www.azaleacommunitychurch.com/events/prayer-meeting/2
 023-12-13
END:VEVENT
END:VCALENDAR
