BEGIN:VCALENDAR
VERSION:2.0
PRODID:icalendar-ruby
CALSCALE:GREGORIAN
METHOD:PUBLISH
BEGIN:VEVENT
DTSTAMP:20260425T032135Z
UID:8-1393712@azaleacommunitychurch.com
DTSTART:20240104T020000Z
DTEND:20240104T030000Z
CLASS:PUBLIC
CREATED:20260424T180037
DESCRIPTION:Prayer meeting
LAST-MODIFIED:20260424T180037
LOCATION:At the Church
SUMMARY:Prayer meeting
URL;VALUE=URI:https://www.azaleacommunitychurch.com/events/prayer-meeting/2
 024-01-03
END:VEVENT
END:VCALENDAR
