BEGIN:VCALENDAR
VERSION:2.0
PRODID:icalendar-ruby
CALSCALE:GREGORIAN
METHOD:PUBLISH
BEGIN:VEVENT
DTSTAMP:20260425T110417Z
UID:8-1394521@azaleacommunitychurch.com
DTSTART:20240201T020000Z
DTEND:20240201T030000Z
CLASS:PUBLIC
CREATED:20260425T034937
DESCRIPTION:Prayer meeting
LAST-MODIFIED:20260425T034937
LOCATION:At the Church
SUMMARY:Prayer meeting
URL;VALUE=URI:https://www.azaleacommunitychurch.com/events/prayer-meeting/2
 024-01-31
END:VEVENT
END:VCALENDAR
