BEGIN:VCALENDAR
VERSION:2.0
PRODID:icalendar-ruby
CALSCALE:GREGORIAN
METHOD:PUBLISH
BEGIN:VEVENT
DTSTAMP:20260425T124507Z
UID:8-1394522@azaleacommunitychurch.com
DTSTART:20240208T020000Z
DTEND:20240208T030000Z
CLASS:PUBLIC
CREATED:20260425T034937
DESCRIPTION:Prayer meeting
LAST-MODIFIED:20260425T034937
LOCATION:At the Church
SUMMARY:Prayer meeting
URL;VALUE=URI:https://www.azaleacommunitychurch.com/events/prayer-meeting/2
 024-02-07
END:VEVENT
END:VCALENDAR
