BEGIN:VCALENDAR
VERSION:2.0
PRODID:icalendar-ruby
CALSCALE:GREGORIAN
METHOD:PUBLISH
BEGIN:VEVENT
DTSTAMP:20260425T142745Z
UID:8-1395328@azaleacommunitychurch.com
DTSTART:20240215T020000Z
DTEND:20240215T030000Z
CLASS:PUBLIC
CREATED:20260425T063110
DESCRIPTION:Prayer meeting
LAST-MODIFIED:20260425T063110
LOCATION:At the Church
SUMMARY:Prayer meeting
URL;VALUE=URI:https://www.azaleacommunitychurch.com/events/prayer-meeting/2
 024-02-14
END:VEVENT
END:VCALENDAR
