BEGIN:VCALENDAR
VERSION:2.0
PRODID:icalendar-ruby
CALSCALE:GREGORIAN
METHOD:PUBLISH
BEGIN:VEVENT
DTSTAMP:20260425T173440Z
UID:8-1396135@azaleacommunitychurch.com
DTSTART:20240229T020000Z
DTEND:20240229T030000Z
CLASS:PUBLIC
CREATED:20260425T091141
DESCRIPTION:Prayer meeting
LAST-MODIFIED:20260425T091141
LOCATION:At the Church
SUMMARY:Prayer meeting
URL;VALUE=URI:https://www.azaleacommunitychurch.com/events/prayer-meeting/2
 024-02-28
END:VEVENT
END:VCALENDAR
