BEGIN:VCALENDAR
VERSION:2.0
PRODID:icalendar-ruby
CALSCALE:GREGORIAN
METHOD:PUBLISH
BEGIN:VEVENT
DTSTAMP:20260425T210540Z
UID:8-1396942@azaleacommunitychurch.com
DTSTART:20240314T010000Z
DTEND:20240314T020000Z
CLASS:PUBLIC
CREATED:20260425T115154
DESCRIPTION:Prayer meeting
LAST-MODIFIED:20260425T115154
LOCATION:At the Church
SUMMARY:Prayer meeting
URL;VALUE=URI:https://www.azaleacommunitychurch.com/events/prayer-meeting/2
 024-03-13
END:VEVENT
END:VCALENDAR
